BEGIN:VCALENDAR
VERSION:2.0
PRODID:-//Nathalie Bagadey - ECPv6.15.20//NONSGML v1.0//EN
CALSCALE:GREGORIAN
METHOD:PUBLISH
X-WR-CALNAME:Nathalie Bagadey
X-ORIGINAL-URL:https://nathaliebagadey.fr
X-WR-CALDESC:Évènements pour Nathalie Bagadey
REFRESH-INTERVAL;VALUE=DURATION:PT1H
X-Robots-Tag:noindex
X-PUBLISHED-TTL:PT1H
BEGIN:VTIMEZONE
TZID:Europe/Paris
BEGIN:DAYLIGHT
TZOFFSETFROM:+0100
TZOFFSETTO:+0200
TZNAME:CEST
DTSTART:20190331T010000
END:DAYLIGHT
BEGIN:STANDARD
TZOFFSETFROM:+0200
TZOFFSETTO:+0100
TZNAME:CET
DTSTART:20191027T010000
END:STANDARD
BEGIN:DAYLIGHT
TZOFFSETFROM:+0100
TZOFFSETTO:+0200
TZNAME:CEST
DTSTART:20200329T010000
END:DAYLIGHT
BEGIN:STANDARD
TZOFFSETFROM:+0200
TZOFFSETTO:+0100
TZNAME:CET
DTSTART:20201025T010000
END:STANDARD
BEGIN:DAYLIGHT
TZOFFSETFROM:+0100
TZOFFSETTO:+0200
TZNAME:CEST
DTSTART:20210328T010000
END:DAYLIGHT
BEGIN:STANDARD
TZOFFSETFROM:+0200
TZOFFSETTO:+0100
TZNAME:CET
DTSTART:20211031T010000
END:STANDARD
END:VTIMEZONE
BEGIN:VEVENT
DTSTART;TZID=Europe/Paris:20200907T200000
DTEND;TZID=Europe/Paris:20200907T210000
DTSTAMP:20260424T201420
CREATED:20260304T183705Z
LAST-MODIFIED:20260304T183705Z
UID:247537-1599508800-1599512400@nathaliebagadey.fr
SUMMARY:Invitée de « She’s On Stage! »
DESCRIPTION:Je serai l’invitée de ma propre émission le 7 septembre 2020\, grâce à la complicité de Virginie Perrot\, MC\, qui me recevra en studio.\nJ’ai très hâte de vivre\, moi aussi\, les chouettes moments qu’ont connus mes invitées dans ce show hebdomadaire\, que je prends toujours un grand plaisir à présenter. ♥\nPour retrouver tous les « She’s On Stage! » : https://www.youtube.com/playlist?list=PL_OGs365dHv3OogT6SnaxYXdd3EeWq_Ci\n 
URL:https://nathaliebagadey.fr/event/invitee-de-shes-on-stage/
END:VEVENT
END:VCALENDAR