BEGIN:VCALENDAR
VERSION:2.0
PRODID:-//Nathalie Bagadey - ECPv6.15.18//NONSGML v1.0//EN
CALSCALE:GREGORIAN
METHOD:PUBLISH
X-ORIGINAL-URL:https://nathaliebagadey.fr
X-WR-CALDESC:Évènements pour Nathalie Bagadey
REFRESH-INTERVAL;VALUE=DURATION:PT1H
X-Robots-Tag:noindex
X-PUBLISHED-TTL:PT1H
BEGIN:VTIMEZONE
TZID:Europe/Paris
BEGIN:DAYLIGHT
TZOFFSETFROM:+0100
TZOFFSETTO:+0200
TZNAME:CEST
DTSTART:20250330T010000
END:DAYLIGHT
BEGIN:STANDARD
TZOFFSETFROM:+0200
TZOFFSETTO:+0100
TZNAME:CET
DTSTART:20251026T010000
END:STANDARD
BEGIN:DAYLIGHT
TZOFFSETFROM:+0100
TZOFFSETTO:+0200
TZNAME:CEST
DTSTART:20260329T010000
END:DAYLIGHT
BEGIN:STANDARD
TZOFFSETFROM:+0200
TZOFFSETTO:+0100
TZNAME:CET
DTSTART:20261025T010000
END:STANDARD
BEGIN:DAYLIGHT
TZOFFSETFROM:+0100
TZOFFSETTO:+0200
TZNAME:CEST
DTSTART:20270328T010000
END:DAYLIGHT
BEGIN:STANDARD
TZOFFSETFROM:+0200
TZOFFSETTO:+0100
TZNAME:CET
DTSTART:20271031T010000
END:STANDARD
END:VTIMEZONE
BEGIN:VEVENT
DTSTART;TZID=Europe/Paris:20260228T080000
DTEND;TZID=Europe/Paris:20260228T200000
DTSTAMP:20260419T234619
CREATED:20260304T183217Z
LAST-MODIFIED:20260304T222529Z
UID:247448-1772265600-1772308800@nathaliebagadey.fr
SUMMARY:Nathalie Bagadey de retour à Terre du Geek en 2026
DESCRIPTION:Nathalie va bien pouvoir honorer l’invitation qui lui a été faite par Terre du Geek\, une manifestation très sympathique à laquelle elle n’a pas assisté depuis longtemps.\nEn amont\, elle vous invite à écouter Radio Méga\, sur 99.2\, à partir de 12h10\, pour une émission en direct en compagnie de 2 autres auteurs. 😊🎙️\nHoraires de la manifestation : 14h-18h
URL:https://nathaliebagadey.fr/event/nathalie-bagadey-de-retour-a-terre-du-geek-en-2026/
CATEGORIES:Dédicaces
END:VEVENT
END:VCALENDAR