BEGIN:VCALENDAR
VERSION:2.0
PRODID:-//Nathalie Bagadey - ECPv6.15.20//NONSGML v1.0//EN
CALSCALE:GREGORIAN
METHOD:PUBLISH
X-ORIGINAL-URL:https://nathaliebagadey.fr
X-WR-CALDESC:Évènements pour Nathalie Bagadey
REFRESH-INTERVAL;VALUE=DURATION:PT1H
X-Robots-Tag:noindex
X-PUBLISHED-TTL:PT1H
BEGIN:VTIMEZONE
TZID:Europe/Paris
BEGIN:DAYLIGHT
TZOFFSETFROM:+0100
TZOFFSETTO:+0200
TZNAME:CEST
DTSTART:20200329T010000
END:DAYLIGHT
BEGIN:STANDARD
TZOFFSETFROM:+0200
TZOFFSETTO:+0100
TZNAME:CET
DTSTART:20201025T010000
END:STANDARD
BEGIN:DAYLIGHT
TZOFFSETFROM:+0100
TZOFFSETTO:+0200
TZNAME:CEST
DTSTART:20210328T010000
END:DAYLIGHT
BEGIN:STANDARD
TZOFFSETFROM:+0200
TZOFFSETTO:+0100
TZNAME:CET
DTSTART:20211031T010000
END:STANDARD
BEGIN:DAYLIGHT
TZOFFSETFROM:+0100
TZOFFSETTO:+0200
TZNAME:CEST
DTSTART:20220327T010000
END:DAYLIGHT
BEGIN:STANDARD
TZOFFSETFROM:+0200
TZOFFSETTO:+0100
TZNAME:CET
DTSTART:20221030T010000
END:STANDARD
END:VTIMEZONE
BEGIN:VEVENT
DTSTART;TZID=Europe/Paris:20211208T140000
DTEND;TZID=Europe/Paris:20211208T173000
DTSTAMP:20260423T155649
CREATED:20260304T183602Z
LAST-MODIFIED:20260304T183602Z
UID:247514-1638972000-1638984600@nathaliebagadey.fr
SUMMARY:Dédicaces « Petit-Pierre et les étoiles » à la médiathèque de Livron-sur-Drôme
DESCRIPTION:Nathalie Bagadey et Camille Loiselet seront toutes deux présentes lors d’une séance de dédicaces exceptionnelle à la médiathèque de Livron-sur-Drôme\, le 8 décembre\, de 14h à 18h\, pour la sortie de Petit-Pierre et les étoiles.\nUn livre jeunesse à lire et à offrir\, sur la force de l’amitié et le pouvoir des rêves.
URL:https://nathaliebagadey.fr/event/dedicaces-petit-pierre-et-les-etoiles-a-la-mediatheque-de-livron-sur-drome/
CATEGORIES:Dédicaces
END:VEVENT
END:VCALENDAR