BEGIN:VCALENDAR
VERSION:2.0
PRODID:-//Nathalie Bagadey - ECPv6.15.18//NONSGML v1.0//EN
CALSCALE:GREGORIAN
METHOD:PUBLISH
X-ORIGINAL-URL:https://nathaliebagadey.fr
X-WR-CALDESC:Évènements pour Nathalie Bagadey
REFRESH-INTERVAL;VALUE=DURATION:PT1H
X-Robots-Tag:noindex
X-PUBLISHED-TTL:PT1H
BEGIN:VTIMEZONE
TZID:Europe/Paris
BEGIN:DAYLIGHT
TZOFFSETFROM:+0100
TZOFFSETTO:+0200
TZNAME:CEST
DTSTART:20250330T010000
END:DAYLIGHT
BEGIN:STANDARD
TZOFFSETFROM:+0200
TZOFFSETTO:+0100
TZNAME:CET
DTSTART:20251026T010000
END:STANDARD
BEGIN:DAYLIGHT
TZOFFSETFROM:+0100
TZOFFSETTO:+0200
TZNAME:CEST
DTSTART:20260329T010000
END:DAYLIGHT
BEGIN:STANDARD
TZOFFSETFROM:+0200
TZOFFSETTO:+0100
TZNAME:CET
DTSTART:20261025T010000
END:STANDARD
BEGIN:DAYLIGHT
TZOFFSETFROM:+0100
TZOFFSETTO:+0200
TZNAME:CEST
DTSTART:20270328T010000
END:DAYLIGHT
BEGIN:STANDARD
TZOFFSETFROM:+0200
TZOFFSETTO:+0100
TZNAME:CET
DTSTART:20271031T010000
END:STANDARD
END:VTIMEZONE
BEGIN:VEVENT
DTSTART;VALUE=DATE:20260307
DTEND;VALUE=DATE:20260309
DTSTAMP:20260421T115731
CREATED:20260304T183223Z
LAST-MODIFIED:20260304T222915Z
UID:247453-1772841600-1773014399@nathaliebagadey.fr
SUMMARY:Nathalie Bagadey de retour à Yggdrasil (69) en mars 2026 !
DESCRIPTION:Nathalie est ravie de retourner dans cet évènement qui compte parmi ses préférés.\nNormal\, cela fait des années qu’elle y est invitée en tant que marraine du village du livre. D’ailleurs\, cette année\, sa filleule littéraire sera Cindy Costes.\nEnfin\, on me dit dans l’oreillette que Nathalie devrait avoir quelques exemplaires de son tout nouveau livre\, Alya face à l’Égypte des légendes – Tome 2 : Harmonie en avant-avant-première à cette occasion (il sortira normalement le 20 mars). 🤫😎\nPour découvrir l’ambiance si particulière d’Yggdrasil\, lisez les précédents comptes-rendus de Nathalie ici.
URL:https://nathaliebagadey.fr/event/nathalie-bagadey-de-retour-a-yggdrasil-69-en-mars-2026/
CATEGORIES:Dédicaces
END:VEVENT
BEGIN:VEVENT
DTSTART;TZID=Europe/Paris:20260328T080000
DTEND;TZID=Europe/Paris:20260329T180000
DTSTAMP:20260421T115731
CREATED:20260304T183218Z
LAST-MODIFIED:20260304T183218Z
UID:247449-1774684800-1774807200@nathaliebagadey.fr
SUMMARY:Nathalie Bagadey est ravie d’être de retour à Grésimaginaire 2026 !
DESCRIPTION:Vous le savez\, Grésimaginaire\, c’est un salon qu’affectionne particulièrement Nathalie et les places étaient particulièrement demandées cette année.  En effet\, Grésimaginaire\, c’est un salon qui n’a lieu que tous les deux ans\, alors il ne faut pas le louper ! \nNathalie vous donne donc rendez-vous là-bas les 28 et 29 mars prochains.
URL:https://nathaliebagadey.fr/event/nathalie-bagadey-est-ravie-detre-de-retour-a-gresimaginaire-2026/
CATEGORIES:Dédicaces
END:VEVENT
END:VCALENDAR