BEGIN:VCALENDAR
VERSION:2.0
PRODID:-//Nathalie Bagadey - ECPv6.15.18//NONSGML v1.0//EN
CALSCALE:GREGORIAN
METHOD:PUBLISH
X-ORIGINAL-URL:https://nathaliebagadey.fr
X-WR-CALDESC:Évènements pour Nathalie Bagadey
REFRESH-INTERVAL;VALUE=DURATION:PT1H
X-Robots-Tag:noindex
X-PUBLISHED-TTL:PT1H
BEGIN:VTIMEZONE
TZID:Europe/Paris
BEGIN:DAYLIGHT
TZOFFSETFROM:+0100
TZOFFSETTO:+0200
TZNAME:CEST
DTSTART:20240331T010000
END:DAYLIGHT
BEGIN:STANDARD
TZOFFSETFROM:+0200
TZOFFSETTO:+0100
TZNAME:CET
DTSTART:20241027T010000
END:STANDARD
BEGIN:DAYLIGHT
TZOFFSETFROM:+0100
TZOFFSETTO:+0200
TZNAME:CEST
DTSTART:20250330T010000
END:DAYLIGHT
BEGIN:STANDARD
TZOFFSETFROM:+0200
TZOFFSETTO:+0100
TZNAME:CET
DTSTART:20251026T010000
END:STANDARD
BEGIN:DAYLIGHT
TZOFFSETFROM:+0100
TZOFFSETTO:+0200
TZNAME:CEST
DTSTART:20260329T010000
END:DAYLIGHT
BEGIN:STANDARD
TZOFFSETFROM:+0200
TZOFFSETTO:+0100
TZNAME:CET
DTSTART:20261025T010000
END:STANDARD
END:VTIMEZONE
BEGIN:VEVENT
DTSTART;TZID=Europe/Paris:20251130T090000
DTEND;TZID=Europe/Paris:20251130T180000
DTSTAMP:20260421T235524
CREATED:20260304T183224Z
LAST-MODIFIED:20260304T183224Z
UID:247456-1764493200-1764525600@nathaliebagadey.fr
SUMMARY:Nathalie Bagadey sera de retour à Châteauneuf-sur-Isère en 2025 !
DESCRIPTION:Nathalie Bagadey tient à remercier les élus de Châteauneuf-sur-Isère (et en particulier Éliane Defrance) pour leur charmante invitation à leur salon du livre. Elle y reviendra avec plaisir !\nEn attendant de la retrouver à cette occasion\, vous pouvez lire ici son compte-rendu sur l’édition 2023 😊.
URL:https://nathaliebagadey.fr/event/nathalie-bagadey-sera-de-retour-a-chateauneuf-sur-isere-en-2025/
CATEGORIES:Dédicaces
END:VEVENT
END:VCALENDAR