BEGIN:VCALENDAR
VERSION:2.0
PRODID:-//Nathalie Bagadey - ECPv6.15.18//NONSGML v1.0//EN
CALSCALE:GREGORIAN
METHOD:PUBLISH
X-ORIGINAL-URL:https://nathaliebagadey.fr
X-WR-CALDESC:Évènements pour Nathalie Bagadey
REFRESH-INTERVAL;VALUE=DURATION:PT1H
X-Robots-Tag:noindex
X-PUBLISHED-TTL:PT1H
BEGIN:VTIMEZONE
TZID:Europe/Paris
BEGIN:DAYLIGHT
TZOFFSETFROM:+0100
TZOFFSETTO:+0200
TZNAME:CEST
DTSTART:20240331T010000
END:DAYLIGHT
BEGIN:STANDARD
TZOFFSETFROM:+0200
TZOFFSETTO:+0100
TZNAME:CET
DTSTART:20241027T010000
END:STANDARD
BEGIN:DAYLIGHT
TZOFFSETFROM:+0100
TZOFFSETTO:+0200
TZNAME:CEST
DTSTART:20250330T010000
END:DAYLIGHT
BEGIN:STANDARD
TZOFFSETFROM:+0200
TZOFFSETTO:+0100
TZNAME:CET
DTSTART:20251026T010000
END:STANDARD
BEGIN:DAYLIGHT
TZOFFSETFROM:+0100
TZOFFSETTO:+0200
TZNAME:CEST
DTSTART:20260329T010000
END:DAYLIGHT
BEGIN:STANDARD
TZOFFSETFROM:+0200
TZOFFSETTO:+0100
TZNAME:CET
DTSTART:20261025T010000
END:STANDARD
END:VTIMEZONE
BEGIN:VEVENT
DTSTART;TZID=Europe/Paris:20250406T100000
DTEND;TZID=Europe/Paris:20250406T180000
DTSTAMP:20260422T081855
CREATED:20260304T183254Z
LAST-MODIFIED:20260304T183254Z
UID:247464-1743933600-1743962400@nathaliebagadey.fr
SUMMARY:Nathalie Bagadey de retour à Beauchastel en 2025
DESCRIPTION:Nathalie Bagadey reviendra avec plaisir à Beauchastel\, où elle passe toujours d’agréables moments\, comme vous pourrez le lire dans ses précédents comptes-rendus. \nCe sera aussi l’occasion pour les visiteurs de discuter avec de nombreux auteurs locaux\, tous très sympathiques.
URL:https://nathaliebagadey.fr/event/nathalie-bagadey-de-retour-a-beauchastel-en-2025/
CATEGORIES:Dédicaces
END:VEVENT
END:VCALENDAR