BEGIN:VCALENDAR
VERSION:2.0
PRODID:-//Nathalie Bagadey - ECPv6.15.18//NONSGML v1.0//EN
CALSCALE:GREGORIAN
METHOD:PUBLISH
X-WR-CALNAME:Nathalie Bagadey
X-ORIGINAL-URL:https://nathaliebagadey.fr
X-WR-CALDESC:Évènements pour Nathalie Bagadey
REFRESH-INTERVAL;VALUE=DURATION:PT1H
X-Robots-Tag:noindex
X-PUBLISHED-TTL:PT1H
BEGIN:VTIMEZONE
TZID:Europe/Paris
BEGIN:DAYLIGHT
TZOFFSETFROM:+0100
TZOFFSETTO:+0200
TZNAME:CEST
DTSTART:20230326T010000
END:DAYLIGHT
BEGIN:STANDARD
TZOFFSETFROM:+0200
TZOFFSETTO:+0100
TZNAME:CET
DTSTART:20231029T010000
END:STANDARD
BEGIN:DAYLIGHT
TZOFFSETFROM:+0100
TZOFFSETTO:+0200
TZNAME:CEST
DTSTART:20240331T010000
END:DAYLIGHT
BEGIN:STANDARD
TZOFFSETFROM:+0200
TZOFFSETTO:+0100
TZNAME:CET
DTSTART:20241027T010000
END:STANDARD
BEGIN:DAYLIGHT
TZOFFSETFROM:+0100
TZOFFSETTO:+0200
TZNAME:CEST
DTSTART:20250330T010000
END:DAYLIGHT
BEGIN:STANDARD
TZOFFSETFROM:+0200
TZOFFSETTO:+0100
TZNAME:CET
DTSTART:20251026T010000
END:STANDARD
END:VTIMEZONE
BEGIN:VEVENT
DTSTART;TZID=Europe/Paris:20240324T100000
DTEND;TZID=Europe/Paris:20240324T180000
DTSTAMP:20260423T053224
CREATED:20260304T183312Z
LAST-MODIFIED:20260304T183312Z
UID:247472-1711274400-1711303200@nathaliebagadey.fr
SUMMARY:Nathalie Bagadey de retour à Beauchastel… mais à un nouvel endroit !
DESCRIPTION:Nathalie est ravie de retourner à Beauchastel\, une manifestation toute proche de chez elle\, avec une atmosphère chaleureuse.\nEt cette année\, le salon « Rencontre autour du livre » aura lieu plus près du centre-ville\, dans le tout nouvel Espace Citoyens !\nAlors\, venez nombreux pour récompenser le travail des bénévoles ! 😊
URL:https://nathaliebagadey.fr/event/nathalie-bagadey-de-retour-a-beauchastel-mais-a-un-nouvel-endroit/
CATEGORIES:Dédicaces
END:VEVENT
END:VCALENDAR