BEGIN:VCALENDAR
VERSION:2.0
PRODID:-//Nathalie Bagadey - ECPv6.15.20//NONSGML v1.0//EN
CALSCALE:GREGORIAN
METHOD:PUBLISH
X-ORIGINAL-URL:https://nathaliebagadey.fr
X-WR-CALDESC:Évènements pour Nathalie Bagadey
REFRESH-INTERVAL;VALUE=DURATION:PT1H
X-Robots-Tag:noindex
X-PUBLISHED-TTL:PT1H
BEGIN:VTIMEZONE
TZID:Europe/Paris
BEGIN:DAYLIGHT
TZOFFSETFROM:+0100
TZOFFSETTO:+0200
TZNAME:CEST
DTSTART:20220327T010000
END:DAYLIGHT
BEGIN:STANDARD
TZOFFSETFROM:+0200
TZOFFSETTO:+0100
TZNAME:CET
DTSTART:20221030T010000
END:STANDARD
BEGIN:DAYLIGHT
TZOFFSETFROM:+0100
TZOFFSETTO:+0200
TZNAME:CEST
DTSTART:20230326T010000
END:DAYLIGHT
BEGIN:STANDARD
TZOFFSETFROM:+0200
TZOFFSETTO:+0100
TZNAME:CET
DTSTART:20231029T010000
END:STANDARD
BEGIN:DAYLIGHT
TZOFFSETFROM:+0100
TZOFFSETTO:+0200
TZNAME:CEST
DTSTART:20240331T010000
END:DAYLIGHT
BEGIN:STANDARD
TZOFFSETFROM:+0200
TZOFFSETTO:+0100
TZNAME:CET
DTSTART:20241027T010000
END:STANDARD
END:VTIMEZONE
BEGIN:VEVENT
DTSTART;TZID=Europe/Paris:20230326T100000
DTEND;TZID=Europe/Paris:20230326T180000
DTSTAMP:20260424T020233
CREATED:20260304T183412Z
LAST-MODIFIED:20260304T183412Z
UID:247492-1679824800-1679853600@nathaliebagadey.fr
SUMMARY:Nathalie Bagaday de retour au salon de Beauchastel 2023
DESCRIPTION:Nathalie sera à à nouveau présente à la 17ème édition des « Rencontres autour du livre  » de Beauchastel\, un salon tout proche de chez elle\, intimiste et chaleureux. Elle y sera avec le tome 3 de Citara\, que les Beauchastellois les Beauchastelloises n’ont pas encore découvert.
URL:https://nathaliebagadey.fr/event/nathalie-bagaday-de-retour-au-salon-de-beauchastel-2023/
CATEGORIES:Dédicaces
END:VEVENT
END:VCALENDAR