BEGIN:VCALENDAR
VERSION:2.0
PRODID:-//Nathalie Bagadey - ECPv6.15.18//NONSGML v1.0//EN
CALSCALE:GREGORIAN
METHOD:PUBLISH
X-ORIGINAL-URL:https://nathaliebagadey.fr
X-WR-CALDESC:Évènements pour Nathalie Bagadey
REFRESH-INTERVAL;VALUE=DURATION:PT1H
X-Robots-Tag:noindex
X-PUBLISHED-TTL:PT1H
BEGIN:VTIMEZONE
TZID:Europe/Paris
BEGIN:DAYLIGHT
TZOFFSETFROM:+0100
TZOFFSETTO:+0200
TZNAME:CEST
DTSTART:20240331T010000
END:DAYLIGHT
BEGIN:STANDARD
TZOFFSETFROM:+0200
TZOFFSETTO:+0100
TZNAME:CET
DTSTART:20241027T010000
END:STANDARD
BEGIN:DAYLIGHT
TZOFFSETFROM:+0100
TZOFFSETTO:+0200
TZNAME:CEST
DTSTART:20250330T010000
END:DAYLIGHT
BEGIN:STANDARD
TZOFFSETFROM:+0200
TZOFFSETTO:+0100
TZNAME:CET
DTSTART:20251026T010000
END:STANDARD
BEGIN:DAYLIGHT
TZOFFSETFROM:+0100
TZOFFSETTO:+0200
TZNAME:CEST
DTSTART:20260329T010000
END:DAYLIGHT
BEGIN:STANDARD
TZOFFSETFROM:+0200
TZOFFSETTO:+0100
TZNAME:CET
DTSTART:20261025T010000
END:STANDARD
END:VTIMEZONE
BEGIN:VEVENT
DTSTART;TZID=Europe/Paris:20251019T100000
DTEND;TZID=Europe/Paris:20251019T170000
DTSTAMP:20260422T015432
CREATED:20260304T183224Z
LAST-MODIFIED:20260304T183224Z
UID:247455-1760868000-1760893200@nathaliebagadey.fr
SUMMARY:Nathalie Bagadey sera présente à la première édition du salon du livre de Larnas en 2025 !
DESCRIPTION:La dynamique association “Savez-vous planter les choux ?” a décidé d’organiser son premier salon du livre en 2025 ! Ce sera le lendemain de Dracopolis\, mais Nathalie s’est dit que\, quitte à avoir la voiture chargée\, elle pouvait enchaîner les deux à la suite ! 😅\nNous vous attendons nombreux dans ce petit village (ce sera l’occasion de découvrir celui-ci lors d’une sortie en famille 😉)\, de 10h à 17h.
URL:https://nathaliebagadey.fr/event/nathalie-bagadey-sera-presente-a-la-premiere-edition-du-salon-du-livre-de-larnas-en-2025/
CATEGORIES:Dédicaces
END:VEVENT
END:VCALENDAR