BEGIN:VCALENDAR
VERSION:2.0
PRODID:-//Nathalie Bagadey - ECPv6.15.18//NONSGML v1.0//EN
CALSCALE:GREGORIAN
METHOD:PUBLISH
X-ORIGINAL-URL:https://nathaliebagadey.fr
X-WR-CALDESC:Évènements pour Nathalie Bagadey
REFRESH-INTERVAL;VALUE=DURATION:PT1H
X-Robots-Tag:noindex
X-PUBLISHED-TTL:PT1H
BEGIN:VTIMEZONE
TZID:Europe/Paris
BEGIN:DAYLIGHT
TZOFFSETFROM:+0100
TZOFFSETTO:+0200
TZNAME:CEST
DTSTART:20210328T010000
END:DAYLIGHT
BEGIN:STANDARD
TZOFFSETFROM:+0200
TZOFFSETTO:+0100
TZNAME:CET
DTSTART:20211031T010000
END:STANDARD
BEGIN:DAYLIGHT
TZOFFSETFROM:+0100
TZOFFSETTO:+0200
TZNAME:CEST
DTSTART:20220327T010000
END:DAYLIGHT
BEGIN:STANDARD
TZOFFSETFROM:+0200
TZOFFSETTO:+0100
TZNAME:CET
DTSTART:20221030T010000
END:STANDARD
BEGIN:DAYLIGHT
TZOFFSETFROM:+0100
TZOFFSETTO:+0200
TZNAME:CEST
DTSTART:20230326T010000
END:DAYLIGHT
BEGIN:STANDARD
TZOFFSETFROM:+0200
TZOFFSETTO:+0100
TZNAME:CET
DTSTART:20231029T010000
END:STANDARD
END:VTIMEZONE
BEGIN:VEVENT
DTSTART;TZID=Europe/Paris:20220312T140000
DTEND;TZID=Europe/Paris:20220312T180000
DTSTAMP:20260423T111955
CREATED:20260304T183547Z
LAST-MODIFIED:20260304T183547Z
UID:247509-1647093600-1647108000@nathaliebagadey.fr
SUMMARY:Nathalie Bagadey en dédicaces à l’Antre de Calliopée
DESCRIPTION:Nathalie Bagadey dédicacera pour la toute première fois dans la magnifique librairie de l’Antre de Calliopée !\nElle est ravie\, car elle a suivi la naissance de cette librairie depuis ses débuts et a toujours rêvé d’y venir : le salon Harry Potter lui tend déjà les bras !\nElle vous dédicacera ses ouvrages de 14h à 18h\, tout en grignotant l’un des fameux « Brookies » proposés dans la librairie et… notre petit doigt nous dit qu’elle pourrait même s’inspirer du lieu pour y écrire le matin… Mais chuuuuuuuuuut !\nAlors\, vous faites quoi\, vous\, ce samedi ?
URL:https://nathaliebagadey.fr/event/nathalie-bagadey-en-dedicaces-a-lantre-de-calliopee/
CATEGORIES:Dédicaces
END:VEVENT
END:VCALENDAR