BEGIN:VCALENDAR
VERSION:2.0
PRODID:-//Nathalie Bagadey - ECPv6.15.18//NONSGML v1.0//EN
CALSCALE:GREGORIAN
METHOD:PUBLISH
X-ORIGINAL-URL:https://nathaliebagadey.fr
X-WR-CALDESC:Évènements pour Nathalie Bagadey
REFRESH-INTERVAL;VALUE=DURATION:PT1H
X-Robots-Tag:noindex
X-PUBLISHED-TTL:PT1H
BEGIN:VTIMEZONE
TZID:Europe/Paris
BEGIN:DAYLIGHT
TZOFFSETFROM:+0100
TZOFFSETTO:+0200
TZNAME:CEST
DTSTART:20210328T010000
END:DAYLIGHT
BEGIN:STANDARD
TZOFFSETFROM:+0200
TZOFFSETTO:+0100
TZNAME:CET
DTSTART:20211031T010000
END:STANDARD
BEGIN:DAYLIGHT
TZOFFSETFROM:+0100
TZOFFSETTO:+0200
TZNAME:CEST
DTSTART:20220327T010000
END:DAYLIGHT
BEGIN:STANDARD
TZOFFSETFROM:+0200
TZOFFSETTO:+0100
TZNAME:CET
DTSTART:20221030T010000
END:STANDARD
BEGIN:DAYLIGHT
TZOFFSETFROM:+0100
TZOFFSETTO:+0200
TZNAME:CEST
DTSTART:20230326T010000
END:DAYLIGHT
BEGIN:STANDARD
TZOFFSETFROM:+0200
TZOFFSETTO:+0100
TZNAME:CET
DTSTART:20231029T010000
END:STANDARD
END:VTIMEZONE
BEGIN:VEVENT
DTSTART;TZID=Europe/Paris:20220930T000000
DTEND;TZID=Europe/Paris:20221002T000000
DTSTAMP:20260422T221852
CREATED:20260304T183531Z
LAST-MODIFIED:20260304T183531Z
UID:247504-1664496000-1664668800@nathaliebagadey.fr
SUMMARY:Nathalie Bagadey ne sera PAS présente à Octogônes 2022
DESCRIPTION:Malheureusement\, Nathalie Bagadey ne sera PAS présente à la Convention cette année. Elle est navrée de la déception qu’elle cause involontairement aux lecteurs\, d’autant qu’elle avait\, pour cette édition 2022\, 3 nouveautés par rapport à l’année précédente et en particulier le tome 3 tant attendu de sa série fantasy Une autre vie à Citara. Si vous arrivez sur cette page après l’avoir cherchée en vain dans les allées d’Octogônes\, sachez que vous avez encore jusqu’au 9 octobre pour profiter du prix de lancement : \n15 € pour le livre papier au lieu de 20 €\,\n1\,99 € pour l’ebook\net 1 € l’ebook pour les deux premiers tomes. \nMerci à tous ceux qui ont plaidé en sa faveur ou ont essayé de lui trouver une solution de secours.\nElle est la première à dire qu’il faut que les auteurs « tournent »\, mais ce n’était pas la bonne année pour cela\, c’est sûr… 😎😅
URL:https://nathaliebagadey.fr/event/nathalie-bagadey-ne-sera-pas-presente-a-octogones-2022/
CATEGORIES:Dédicaces
END:VEVENT
END:VCALENDAR