BEGIN:VCALENDAR
VERSION:2.0
PRODID:-//Nathalie Bagadey - ECPv6.15.18//NONSGML v1.0//EN
CALSCALE:GREGORIAN
METHOD:PUBLISH
X-ORIGINAL-URL:https://nathaliebagadey.fr
X-WR-CALDESC:Évènements pour Nathalie Bagadey
REFRESH-INTERVAL;VALUE=DURATION:PT1H
X-Robots-Tag:noindex
X-PUBLISHED-TTL:PT1H
BEGIN:VTIMEZONE
TZID:Europe/Paris
BEGIN:DAYLIGHT
TZOFFSETFROM:+0100
TZOFFSETTO:+0200
TZNAME:CEST
DTSTART:20210328T010000
END:DAYLIGHT
BEGIN:STANDARD
TZOFFSETFROM:+0200
TZOFFSETTO:+0100
TZNAME:CET
DTSTART:20211031T010000
END:STANDARD
BEGIN:DAYLIGHT
TZOFFSETFROM:+0100
TZOFFSETTO:+0200
TZNAME:CEST
DTSTART:20220327T010000
END:DAYLIGHT
BEGIN:STANDARD
TZOFFSETFROM:+0200
TZOFFSETTO:+0100
TZNAME:CET
DTSTART:20221030T010000
END:STANDARD
BEGIN:DAYLIGHT
TZOFFSETFROM:+0100
TZOFFSETTO:+0200
TZNAME:CEST
DTSTART:20230326T010000
END:DAYLIGHT
BEGIN:STANDARD
TZOFFSETFROM:+0200
TZOFFSETTO:+0100
TZNAME:CET
DTSTART:20231029T010000
END:STANDARD
END:VTIMEZONE
BEGIN:VEVENT
DTSTART;TZID=Europe/Paris:20220618T000000
DTEND;TZID=Europe/Paris:20220619T000000
DTSTAMP:20260423T061256
CREATED:20260304T183532Z
LAST-MODIFIED:20260304T183532Z
UID:247507-1655510400-1655596800@nathaliebagadey.fr
SUMMARY:Nathalie Bagadey de retour au HeroFestival de Grenoble 2022
DESCRIPTION:Nathalie Bagadey sera bien de retour au HeroFestival de Grenoble\, un évènement qu’elle affectionne tout particulièrement\, pour y dédicacer ses nouveautés\, Petit-Pierre et les étoiles et Autoédition : à vous de jouer ! Version 2.0 ! Merci aux organisateurs qui lui ont renouvelé leur soutien. 🙏\nRetrouvez ses précédents comptes-rendus ici : Jour 1 https://nathaliebagadey.fr/en-direct-du-hero-festival-jour-1/ et Jour 2 https://nathaliebagadey.fr/le-herofestival-grenoble-2018-jour-2/.\n 
URL:https://nathaliebagadey.fr/event/nathalie-bagadey-de-retour-au-herofestival-de-grenoble-2022/
CATEGORIES:Dédicaces
END:VEVENT
END:VCALENDAR